BEGIN:VCALENDAR
VERSION:2.0
PRODID:-//rumah karya indonesia - ECPv6.15.13.1//NONSGML v1.0//EN
CALSCALE:GREGORIAN
METHOD:PUBLISH
X-WR-CALNAME:rumah karya indonesia
X-ORIGINAL-URL:https://rumahkaryaindonesia.com
X-WR-CALDESC:Events for rumah karya indonesia
REFRESH-INTERVAL;VALUE=DURATION:PT1H
X-Robots-Tag:noindex
X-PUBLISHED-TTL:PT1H
BEGIN:VTIMEZONE
TZID:Asia/Jakarta
BEGIN:STANDARD
TZOFFSETFROM:+0700
TZOFFSETTO:+0700
TZNAME:WIB
DTSTART:20240101T000000
END:STANDARD
END:VTIMEZONE
BEGIN:VEVENT
DTSTART;VALUE=DATE:20250627
DTEND;VALUE=DATE:20250630
DTSTAMP:20260422T213956
CREATED:20250304T060134Z
LAST-MODIFIED:20250304T060134Z
UID:21250-1750982400-1751241599@rumahkaryaindonesia.com
SUMMARY:Geobike Kaldera Toba #8
DESCRIPTION:“Bersepeda Menyusuri Sisi Danau Toba”
URL:https://rumahkaryaindonesia.com/event/geobike-kaldera-toba-8/
LOCATION:Siantar – Simalungun
CATEGORIES:Fun bike
END:VEVENT
END:VCALENDAR